BEGIN:VCALENDAR
VERSION:2.0
PRODID:-//Unison Choruses Canada | Chœurs Unisson Canada - ECPv6.15.20//NONSGML v1.0//EN
CALSCALE:GREGORIAN
METHOD:PUBLISH
X-ORIGINAL-URL:https://www.unisonfestivalunisson.ca
X-WR-CALDESC:Events for Unison Choruses Canada | Chœurs Unisson Canada
REFRESH-INTERVAL;VALUE=DURATION:PT1H
X-Robots-Tag:noindex
X-PUBLISHED-TTL:PT1H
BEGIN:VTIMEZONE
TZID:America/Edmonton
BEGIN:DAYLIGHT
TZOFFSETFROM:-0700
TZOFFSETTO:-0600
TZNAME:MDT
DTSTART:20130310T090000
END:DAYLIGHT
BEGIN:STANDARD
TZOFFSETFROM:-0600
TZOFFSETTO:-0700
TZNAME:MST
DTSTART:20131103T080000
END:STANDARD
BEGIN:DAYLIGHT
TZOFFSETFROM:-0700
TZOFFSETTO:-0600
TZNAME:MDT
DTSTART:20140309T090000
END:DAYLIGHT
BEGIN:STANDARD
TZOFFSETFROM:-0600
TZOFFSETTO:-0700
TZNAME:MST
DTSTART:20141102T080000
END:STANDARD
BEGIN:DAYLIGHT
TZOFFSETFROM:-0700
TZOFFSETTO:-0600
TZNAME:MDT
DTSTART:20150308T090000
END:DAYLIGHT
BEGIN:STANDARD
TZOFFSETFROM:-0600
TZOFFSETTO:-0700
TZNAME:MST
DTSTART:20151101T080000
END:STANDARD
END:VTIMEZONE
BEGIN:VEVENT
DTSTART;TZID=America/Edmonton:20140516T223000
DTEND;TZID=America/Edmonton:20140516T223000
DTSTAMP:20260419T103740
CREATED:20130330T033158Z
LAST-MODIFIED:20130330T033158Z
UID:550-1400279400-1400279400@www.unisonfestivalunisson.ca
SUMMARY:Welcome Reception
DESCRIPTION:
URL:https://www.unisonfestivalunisson.ca/index.php/event/welcome-reception/
LOCATION:Westin Ottawa\, 11 Colonel By Drive\, Ottawa\, ON\, K1N 9H4\, Canada
CATEGORIES:Social
END:VEVENT
END:VCALENDAR